BEGIN:VCALENDAR
VERSION:2.0
PRODID:-//wp-events-plugin.com//7.2.3.1//EN
TZID:America/New_York
X-WR-TIMEZONE:America/New_York
BEGIN:VEVENT
UID:162@cosiscifest.org
DTSTART;TZID=America/New_York:20260501T100000
DTEND;TZID=America/New_York:20260501T120000
DTSTAMP:20260309T173914Z
URL:https://cosiscifest.org/events/young-art-explorers/
SUMMARY:Young Art Explorers
DESCRIPTION:Children ages 2-5 and their caregivers can drop in to make thei
 r own process art masterpieces using a variety of fun supplies. Join us mo
 nthly for creative exploration and artistic skill-building.  
ATTACH;FMTTYPE=image/jpeg:https://cosiscifest.org/wp-content/uploads/2024/
 03/CSF_generic_comm-event_image.jpg
CATEGORIES:Creative Sparks
LOCATION:Upper Arlington Public Library: Miller Park Branch\, 1901 Arlingto
 n Ave\, Columbus\, Ohio\, 43212\, United States
GEO:39.994806;-83.06225
X-APPLE-STRUCTURED-LOCATION;VALUE=URI;X-ADDRESS=1901 Arlington Ave\, Columb
 us\, Ohio\, 43212\, United States;X-APPLE-RADIUS=100;X-TITLE=Upper Arlingt
 on Public Library: Miller Park Branch:geo:39.994806,-83.06225
END:VEVENT
BEGIN:VTIMEZONE
TZID:America/New_York
X-LIC-LOCATION:America/New_York
BEGIN:DAYLIGHT
DTSTART:20260308T030000
TZOFFSETFROM:-0500
TZOFFSETTO:-0400
TZNAME:EDT
END:DAYLIGHT
END:VTIMEZONE
END:VCALENDAR