BEGIN:VCALENDAR
VERSION:2.0
PRODID:-//wp-events-plugin.com//7.2.3.1//EN
TZID:America/New_York
X-WR-TIMEZONE:America/New_York
BEGIN:VEVENT
UID:120@cosiscifest.org
DTSTART;TZID=America/New_York:20260429T170000
DTEND;TZID=America/New_York:20260429T183000
DTSTAMP:20260403T210040Z
URL:https://cosiscifest.org/events/woodland-exploration-bioblitz/
SUMMARY:Woodland Exploration: BioBlitz at Coshocton KOA Campground
DESCRIPTION:Join us for our first-ever BioBlitz at Coshocton KOA Campground
 ! Walk our nature trail\, discover local plants\, animals\, and fungi\, an
 d upload findings to iNaturalist to support real scientific research. Loca
 l naturalists will guide the way\, and kids can enjoy a fun nature scaveng
 er hunt.
ATTACH;FMTTYPE=image/jpeg:https://cosiscifest.org/wp-content/uploads/2026/
 04/woodland_exploration_bioblitz_at_coshocton_KOA_campground_EDIT.jpg
CATEGORIES:BioBlitz,Outdoor Exploration
LOCATION:Coshocton KOA Holiday\, 24688 Co Rd 10\, Coshocton\, Ohio\, 43812\
 , United States
GEO:40.310276;-81.823632
X-APPLE-STRUCTURED-LOCATION;VALUE=URI;X-ADDRESS=24688 Co Rd 10\, Coshocton\
 , Ohio\, 43812\, United States;X-APPLE-RADIUS=100;X-TITLE=Coshocton KOA Ho
 liday:geo:40.310276,-81.823632
END:VEVENT
BEGIN:VTIMEZONE
TZID:America/New_York
X-LIC-LOCATION:America/New_York
BEGIN:DAYLIGHT
DTSTART:20260308T030000
TZOFFSETFROM:-0500
TZOFFSETTO:-0400
TZNAME:EDT
END:DAYLIGHT
END:VTIMEZONE
END:VCALENDAR