BEGIN:VCALENDAR
VERSION:2.0
PRODID:-//wp-events-plugin.com//7.2.3.1//EN
TZID:America/New_York
X-WR-TIMEZONE:America/New_York
BEGIN:VEVENT
UID:119@cosiscifest.org
DTSTART;TZID=America/New_York:20260429T150000
DTEND;TZID=America/New_York:20260429T190000
DTSTAMP:20260225T175301Z
URL:https://cosiscifest.org/events/we-grow-scientists-2026/
SUMMARY:We Grow Scientists!
DESCRIPTION:Ever wonder how 'We Grow Scientists' here at The Ohio State Uni
 versity College of Food\, Agricultural\, and Environmental Sciences? Then 
 bring the whole family for an afternoon of hands-on discovery!
ATTACH;FMTTYPE=image/jpeg:https://cosiscifest.org/wp-content/uploads/2026/
 02/we_grow_scientists_EDIT.jpg
CATEGORIES:Be a Scientist,Science Block Party
LOCATION:Controlled Environment Agriculture Research Complex (CEARC)\, 2515
  Carmack Rd\, Columbus\, Ohio\, 43210\, United States
GEO:40.011375;-83.038651
X-APPLE-STRUCTURED-LOCATION;VALUE=URI;X-ADDRESS=2515 Carmack Rd\, Columbus\
 , Ohio\, 43210\, United States;X-APPLE-RADIUS=100;X-TITLE=Controlled Envir
 onment Agriculture Research Complex (CEARC):geo:40.011375,-83.038651
END:VEVENT
BEGIN:VTIMEZONE
TZID:America/New_York
X-LIC-LOCATION:America/New_York
BEGIN:DAYLIGHT
DTSTART:20260308T030000
TZOFFSETFROM:-0500
TZOFFSETTO:-0400
TZNAME:EDT
END:DAYLIGHT
END:VTIMEZONE
END:VCALENDAR