BEGIN:VCALENDAR
VERSION:2.0
PRODID:-//wp-events-plugin.com//7.2.3.1//EN
TZID:America/New_York
X-WR-TIMEZONE:America/New_York
BEGIN:VEVENT
UID:127@cosiscifest.org
DTSTART;TZID=America/New_York:20260430T200000
DTEND;TZID=America/New_York:20260430T210000
DTSTAMP:20260310T195224Z
URL:https://cosiscifest.org/events/unraveling-the-art-and-science-behind-b
 rewing-beer-late/
SUMMARY:Unraveling the Art and Science Behind Brewing Beer
DESCRIPTION:As part of COSI's Community STEAM Events for their annual Scien
 ce Festival\, join us for a *FREE* brewery tour of Land-Grant Brewing's pr
 oduction facility in Franklinton with live demonstrations along the way fr
 om Land-Grant's own Chris Helderman.
ATTACH;FMTTYPE=image/jpeg:https://cosiscifest.org/wp-content/uploads/2026/
 02/Land-Grant-Unraveling-the-Art-and-Science-Behind-Brewing-Beer_EDIT.jpg
CATEGORIES:Adult Science Series
LOCATION:Land-Grant Brewing Company\, 424 W Town St\, Columbus\, Ohio\, 432
 15\, United States
GEO:39.957993;-83.011533
X-APPLE-STRUCTURED-LOCATION;VALUE=URI;X-ADDRESS=424 W Town St\, Columbus\, 
 Ohio\, 43215\, United States;X-APPLE-RADIUS=100;X-TITLE=Land-Grant Brewing
  Company:geo:39.957993,-83.011533
END:VEVENT
BEGIN:VTIMEZONE
TZID:America/New_York
X-LIC-LOCATION:America/New_York
BEGIN:DAYLIGHT
DTSTART:20260308T030000
TZOFFSETFROM:-0500
TZOFFSETTO:-0400
TZNAME:EDT
END:DAYLIGHT
END:VTIMEZONE
END:VCALENDAR