BEGIN:VCALENDAR
VERSION:2.0
PRODID:-//wp-events-plugin.com//7.2.3.1//EN
TZID:America/New_York
X-WR-TIMEZONE:America/New_York
BEGIN:VEVENT
UID:192@cosiscifest.org
DTSTART;TZID=America/New_York:20260430T151500
DTEND;TZID=America/New_York:20260430T170000
DTSTAMP:20260320T142616Z
URL:https://cosiscifest.org/events/trash-to-treasure-2026/
SUMMARY:Trash to Treasure
DESCRIPTION:Join SWACO and Grove City Parks and Recreation to learn about s
 cience of trash by touring a modern-day landfill to observe the operation 
 first-hand and use recycled material to make a treasure.
ATTACH;FMTTYPE=image/jpeg:https://cosiscifest.org/wp-content/uploads/2024/
 03/CSF_generic_comm-event_image.jpg
CATEGORIES:Be a Scientist,Career Lab
LOCATION:Resource Center - Solid Waste Authority of Central Ohio (SWACO)\, 
 6153 Young Road\, Grove City\, Ohio\, 43123\, United States
GEO:39.839218;-83.118802
X-APPLE-STRUCTURED-LOCATION;VALUE=URI;X-ADDRESS=6153 Young Road\, Grove Cit
 y\, Ohio\, 43123\, United States;X-APPLE-RADIUS=100;X-TITLE=Resource Cente
 r - Solid Waste Authority of Central Ohio (SWACO):geo:39.839218,-83.118802
END:VEVENT
BEGIN:VTIMEZONE
TZID:America/New_York
X-LIC-LOCATION:America/New_York
BEGIN:DAYLIGHT
DTSTART:20260308T030000
TZOFFSETFROM:-0500
TZOFFSETTO:-0400
TZNAME:EDT
END:DAYLIGHT
END:VTIMEZONE
END:VCALENDAR