BEGIN:VCALENDAR
VERSION:2.0
PRODID:-//wp-events-plugin.com//7.2.3.1//EN
TZID:America/New_York
X-WR-TIMEZONE:America/New_York
BEGIN:VEVENT
UID:189@cosiscifest.org
DTSTART;TZID=America/New_York:20260430T160000
DTEND;TZID=America/New_York:20260430T170000
DTSTAMP:20260324T210937Z
URL:https://cosiscifest.org/events/tour-of-the-franklin-county-coroners-of
 fice-april30-4-5pm/
SUMMARY:Tour of the Franklin County Coroner's Office
DESCRIPTION:Community members will have the opportunity to tour our facilit
 y and learn how our teams serve the public through science and investigati
 on. 
ATTACH;FMTTYPE=image/jpeg:https://cosiscifest.org/wp-content/uploads/2026/
 03/tours-of-franklin-country-coroner_EDIT.jpg
CATEGORIES:Adult Science Series
LOCATION:Franklin County Forensic Science Center\, 2090 Frank Rd\, Columbus
 \, Ohio\, 43223\, United States
GEO:39.92101;-83.057568
X-APPLE-STRUCTURED-LOCATION;VALUE=URI;X-ADDRESS=2090 Frank Rd\, Columbus\, 
 Ohio\, 43223\, United States;X-APPLE-RADIUS=100;X-TITLE=Franklin County Fo
 rensic Science Center:geo:39.92101,-83.057568
END:VEVENT
BEGIN:VTIMEZONE
TZID:America/New_York
X-LIC-LOCATION:America/New_York
BEGIN:DAYLIGHT
DTSTART:20260308T030000
TZOFFSETFROM:-0500
TZOFFSETTO:-0400
TZNAME:EDT
END:DAYLIGHT
END:VTIMEZONE
END:VCALENDAR