BEGIN:VCALENDAR
VERSION:2.0
PRODID:-//wp-events-plugin.com//7.2.3.1//EN
TZID:America/New_York
X-WR-TIMEZONE:America/New_York
BEGIN:VEVENT
UID:118@cosiscifest.org
DTSTART;TZID=America/New_York:20260429T150000
DTEND;TZID=America/New_York:20260429T190000
DTSTAMP:20260331T203950Z
URL:https://cosiscifest.org/events/thk-day/
SUMMARY:THK Day
DESCRIPTION:Join us as we tour THK's automated facility\, engage with inter
 active technology\, and meet some of the people who make it all work. Oppo
 rtunities for career exploration and education are also available!
ATTACH;FMTTYPE=image/jpeg:https://cosiscifest.org/wp-content/uploads/2026/
 03/THK_day_EDIT.jpg
CATEGORIES:Career Lab
LOCATION:THK Manufacturing of America\, Inc.\, 471 N High St\, Hebron\, Ohi
 o\, 43025\, United States
GEO:39.975057;-82.489932
X-APPLE-STRUCTURED-LOCATION;VALUE=URI;X-ADDRESS=471 N High St\, Hebron\, Oh
 io\, 43025\, United States;X-APPLE-RADIUS=100;X-TITLE=THK Manufacturing of
  America\, Inc.:geo:39.975057,-82.489932
END:VEVENT
BEGIN:VTIMEZONE
TZID:America/New_York
X-LIC-LOCATION:America/New_York
BEGIN:DAYLIGHT
DTSTART:20260308T030000
TZOFFSETFROM:-0500
TZOFFSETTO:-0400
TZNAME:EDT
END:DAYLIGHT
END:VTIMEZONE
END:VCALENDAR