BEGIN:VCALENDAR
VERSION:2.0
PRODID:-//wp-events-plugin.com//7.2.3.1//EN
TZID:America/New_York
X-WR-TIMEZONE:America/New_York
BEGIN:VEVENT
UID:116@cosiscifest.org
DTSTART;TZID=America/New_York:20260430T150000
DTEND;TZID=America/New_York:20260430T180000
DTSTAMP:20260327T161631Z
URL:https://cosiscifest.org/events/the-secret-life-of-sculpture/
SUMMARY:The Secret Life of Sculpture
DESCRIPTION:The Secret Life of Sculpture is a fun\, hands-on workshop with 
 local bronze sculptor Michael Tizzano. Kids will learn how sculptures are 
 designed and made\, ask questions about turning ideas into art\, and exper
 ience how science\, heat\, and creativity work together.
ATTACH;FMTTYPE=image/jpeg:https://cosiscifest.org/wp-content/uploads/2026/
 02/secret_life_of_sculpture_EDIT.jpg
CATEGORIES:Creative Sparks
LOCATION:High Road Gallery and Studios\, 12 E Stafford Ave.\, Worthington\,
  Ohio\, 43085\, United States
GEO:40.091098;-83.017515
X-APPLE-STRUCTURED-LOCATION;VALUE=URI;X-ADDRESS=12 E Stafford Ave.\, Worthi
 ngton\, Ohio\, 43085\, United States;X-APPLE-RADIUS=100;X-TITLE=High Road 
 Gallery and Studios:geo:40.091098,-83.017515
END:VEVENT
BEGIN:VTIMEZONE
TZID:America/New_York
X-LIC-LOCATION:America/New_York
BEGIN:DAYLIGHT
DTSTART:20260308T030000
TZOFFSETFROM:-0500
TZOFFSETTO:-0400
TZNAME:EDT
END:DAYLIGHT
END:VTIMEZONE
END:VCALENDAR