BEGIN:VCALENDAR
VERSION:2.0
PRODID:-//wp-events-plugin.com//7.2.3.1//EN
TZID:America/New_York
X-WR-TIMEZONE:America/New_York
BEGIN:VEVENT
UID:161@cosiscifest.org
DTSTART;TZID=America/New_York:20260429T180000
DTEND;TZID=America/New_York:20260429T190000
DTSTAMP:20260408T193528Z
URL:https://cosiscifest.org/events/the-science-of-scent/
SUMMARY:The Science of Scent
DESCRIPTION:Registration is full! Join WitchLab founder\, Tiffany Boggins\,
  for a talk about the history\, biology and magic of scent. There will be 
 a live demonstration on how to make an oil-based perfume. Each attendee wi
 ll receive a free sample of the perfume created.
ATTACH;FMTTYPE=image/jpeg:https://cosiscifest.org/wp-content/uploads/2026/
 03/science-of-scent_EDIT.jpg
CATEGORIES:Adult Science Series,Creative Sparks
LOCATION:WitchLab\, 127 N Central Ave\, Columbus\, Ohio\, 43222\, United St
 ates
GEO:39.960359;-83.038947
X-APPLE-STRUCTURED-LOCATION;VALUE=URI;X-ADDRESS=127 N Central Ave\, Columbu
 s\, Ohio\, 43222\, United States;X-APPLE-RADIUS=100;X-TITLE=WitchLab:geo:3
 9.960359,-83.038947
END:VEVENT
BEGIN:VTIMEZONE
TZID:America/New_York
X-LIC-LOCATION:America/New_York
BEGIN:DAYLIGHT
DTSTART:20260308T030000
TZOFFSETFROM:-0500
TZOFFSETTO:-0400
TZNAME:EDT
END:DAYLIGHT
END:VTIMEZONE
END:VCALENDAR