BEGIN:VCALENDAR
VERSION:2.0
PRODID:-//wp-events-plugin.com//7.2.3.1//EN
TZID:America/New_York
X-WR-TIMEZONE:America/New_York
BEGIN:VEVENT
UID:160@cosiscifest.org
DTSTART;TZID=America/New_York:20260501T170000
DTEND;TZID=America/New_York:20260501T200000
DTSTAMP:20260319T215754Z
URL:https://cosiscifest.org/events/the-science-behind-rocknroll/
SUMMARY:The Science Behind Rock'n'Roll
DESCRIPTION:For one night only\, our crew of musicians are turning into sci
 entists to answer questions in “The Science Behind Rock’n’Roll”! J
 oin us at School of Rock Columbus for a fun evening of live musical scienc
 e demos\, along with hands-on music lessons for students of all ages!
ATTACH;FMTTYPE=image/jpeg:https://cosiscifest.org/wp-content/uploads/2026/
 03/science-behind-rock-n-roll_EDIT.jpg
CATEGORIES:Creative Sparks
LOCATION:School of Rock\, 949 W 3rd Ave\, Columbus\, Ohio\, 43212\, United 
 States
GEO:39.984324;-83.030737
X-APPLE-STRUCTURED-LOCATION;VALUE=URI;X-ADDRESS=949 W 3rd Ave\, Columbus\, 
 Ohio\, 43212\, United States;X-APPLE-RADIUS=100;X-TITLE=School of Rock:geo
 :39.984324,-83.030737
END:VEVENT
BEGIN:VTIMEZONE
TZID:America/New_York
X-LIC-LOCATION:America/New_York
BEGIN:DAYLIGHT
DTSTART:20260308T030000
TZOFFSETFROM:-0500
TZOFFSETTO:-0400
TZNAME:EDT
END:DAYLIGHT
END:VTIMEZONE
END:VCALENDAR