BEGIN:VCALENDAR
VERSION:2.0
PRODID:-//wp-events-plugin.com//7.2.3.1//EN
TZID:America/New_York
X-WR-TIMEZONE:America/New_York
BEGIN:VEVENT
UID:204@cosiscifest.org
DTSTART;TZID=America/New_York:20260429T190000
DTEND;TZID=America/New_York:20260429T203000
DTSTAMP:20260330T142504Z
URL:https://cosiscifest.org/events/the-neuroscience-of-meditation-mindfuln
 ess-and-your-brain/
SUMMARY:The Neuroscience of Meditation: Mindfulness and Your Brain!
DESCRIPTION:Dr. Julie and Lama Kathy will review past research and current 
 thoughts about neuroscience and teach simple mindfulness techniques\, show
 ing how they impact pain\, depression\, stress\, “brain fog\,” and mor
 e. Join us!
CATEGORIES:Adult Science Series
LOCATION:Columbus KTC Buddhist Center\, 645 W Rich St\, Columbus\, OH 43215
 \,  Columbus\, Ohio\, United States
GEO:39.955288;-83.017102
X-APPLE-STRUCTURED-LOCATION;VALUE=URI;X-ADDRESS=645 W Rich St\, Columbus\, 
 OH 43215\,  Columbus\, Ohio\, United States;X-APPLE-RADIUS=100;X-TITLE=Col
 umbus KTC Buddhist Center:geo:39.955288,-83.017102
END:VEVENT
BEGIN:VTIMEZONE
TZID:America/New_York
X-LIC-LOCATION:America/New_York
BEGIN:DAYLIGHT
DTSTART:20260308T030000
TZOFFSETFROM:-0500
TZOFFSETTO:-0400
TZNAME:EDT
END:DAYLIGHT
END:VTIMEZONE
END:VCALENDAR