BEGIN:VCALENDAR
VERSION:2.0
PRODID:-//wp-events-plugin.com//7.2.3.1//EN
TZID:America/New_York
X-WR-TIMEZONE:America/New_York
BEGIN:VEVENT
UID:136@cosiscifest.org
DTSTART;TZID=America/New_York:20260429T150000
DTEND;TZID=America/New_York:20260429T190000
DTSTAMP:20260319T215857Z
URL:https://cosiscifest.org/events/test-drive-a-gravity-powered-soap-box-d
 erby-racing-car-4-29-2026/
SUMMARY:Test Drive a Gravity Powered Soap Box Derby Racing Car
DESCRIPTION:Test-drive a Soap Box Derby racing car down Derby Hill at Big R
 un Park. Open to boys and girls age 7-18. All drivers must have a signed w
 aiver by a parent. We'll provide a loaner car and instruction. Chat with e
 xperts to learn the science of gravity drag racing.
ATTACH;FMTTYPE=image/jpeg:https://cosiscifest.org/wp-content/uploads/2026/
 03/test-drive-gravity-powered-soap-box-car_EDIT.jpg
CATEGORIES:Be a Scientist
LOCATION:Big Run Park\, 4201 Clime Road\, Columbus\, Ohio\, 43228\, United 
 States
GEO:39.931474;-83.108961
X-APPLE-STRUCTURED-LOCATION;VALUE=URI;X-ADDRESS=4201 Clime Road\, Columbus\
 , Ohio\, 43228\, United States;X-APPLE-RADIUS=100;X-TITLE=Big Run Park:geo
 :39.931474,-83.108961
END:VEVENT
BEGIN:VTIMEZONE
TZID:America/New_York
X-LIC-LOCATION:America/New_York
BEGIN:DAYLIGHT
DTSTART:20260308T030000
TZOFFSETFROM:-0500
TZOFFSETTO:-0400
TZNAME:EDT
END:DAYLIGHT
END:VTIMEZONE
END:VCALENDAR