BEGIN:VCALENDAR
VERSION:2.0
PRODID:-//wp-events-plugin.com//7.2.3.1//EN
TZID:America/New_York
X-WR-TIMEZONE:America/New_York
BEGIN:VEVENT
UID:196@cosiscifest.org
DTSTART;TZID=America/New_York:20260501T170000
DTEND;TZID=America/New_York:20260501T200000
DTSTAMP:20260324T210756Z
URL:https://cosiscifest.org/events/technology-x-denim/
SUMMARY:Technology x Denim
DESCRIPTION:With this event\, we'll be exploring the various stages of deni
 m production from fiber selection to the finished garment\, answering burn
 ing questions about the manufacturing and product-testing process as well 
 as the philosophy behind the comfy nature of Mugsy jeans.
ATTACH;FMTTYPE=image/jpeg:https://cosiscifest.org/wp-content/uploads/2026/
 03/technology-x-denim_EDIT.jpg
CATEGORIES:Adult Science Series
LOCATION:Mugsy\, Easton Square Pl W\, Columbus\, Ohio\, 43219\, United Stat
 es
GEO:40.049784;-82.915712
X-APPLE-STRUCTURED-LOCATION;VALUE=URI;X-ADDRESS=Easton Square Pl W\, Columb
 us\, Ohio\, 43219\, United States;X-APPLE-RADIUS=100;X-TITLE=Mugsy:geo:40.
 049784,-82.915712
END:VEVENT
BEGIN:VTIMEZONE
TZID:America/New_York
X-LIC-LOCATION:America/New_York
BEGIN:DAYLIGHT
DTSTART:20260308T030000
TZOFFSETFROM:-0500
TZOFFSETTO:-0400
TZNAME:EDT
END:DAYLIGHT
END:VTIMEZONE
END:VCALENDAR