BEGIN:VCALENDAR
VERSION:2.0
PRODID:-//wp-events-plugin.com//7.2.3.1//EN
TZID:America/New_York
X-WR-TIMEZONE:America/New_York
BEGIN:VEVENT
UID:159@cosiscifest.org
DTSTART;TZID=America/New_York:20260430T163000
DTEND;TZID=America/New_York:20260430T183000
DTSTAMP:20260309T173056Z
URL:https://cosiscifest.org/events/take-an-adventure-along-the-ohio-erie-c
 anal-2026/
SUMMARY:Take an Adventure Along the Ohio & Erie Canal
DESCRIPTION:This celebration will feature interactive activities\, includin
 g COSI Science Kits and swag bags for the first 100 students\, guided walk
 ing tours of the historic Ohio & Eric Canal\, a working lock simulator and
  opportunities to learn about the regions' canal heritage.
ATTACH;FMTTYPE=image/jpeg:https://cosiscifest.org/wp-content/uploads/2024/
 03/CSF_generic_comm-event_image.jpg
CATEGORIES:Outdoor Exploration,Science Block Party
LOCATION:Locke Meadows Park\, 154 Commerce St\, Lockbourne\, Ohio\, 43137\,
  United States
GEO:39.809307;-82.972049
X-APPLE-STRUCTURED-LOCATION;VALUE=URI;X-ADDRESS=154 Commerce St\, Lockbourn
 e\, Ohio\, 43137\, United States;X-APPLE-RADIUS=100;X-TITLE=Locke Meadows 
 Park:geo:39.809307,-82.972049
END:VEVENT
BEGIN:VTIMEZONE
TZID:America/New_York
X-LIC-LOCATION:America/New_York
BEGIN:DAYLIGHT
DTSTART:20260308T030000
TZOFFSETFROM:-0500
TZOFFSETTO:-0400
TZNAME:EDT
END:DAYLIGHT
END:VTIMEZONE
END:VCALENDAR