BEGIN:VCALENDAR
VERSION:2.0
PRODID:-//wp-events-plugin.com//7.2.3.1//EN
TZID:America/New_York
X-WR-TIMEZONE:America/New_York
BEGIN:VEVENT
UID:194@cosiscifest.org
DTSTART;TZID=America/New_York:20260430T150000
DTEND;TZID=America/New_York:20260430T161500
DTSTAMP:20260421T175251Z
URL:https://cosiscifest.org/events/surprise-science-pop-ups-april-30/
SUMMARY:Surprise Science Pop Ups
DESCRIPTION:Come Join us in the parks for a surprise science afternoon! We 
 will have the supplies needed to complete science experiments with us.
ATTACH;FMTTYPE=image/jpeg:https://cosiscifest.org/wp-content/uploads/2026/
 03/surprise-science-pop-ups_EDIT.jpg
CATEGORIES:Be a Scientist
LOCATION:Sunpoint Park\, 670 McCutcheon Rd\, Gahanna\, Ohio\, 43230\, Unite
 d States
GEO:40.02961;-82.889562
X-APPLE-STRUCTURED-LOCATION;VALUE=URI;X-ADDRESS=670 McCutcheon Rd\, Gahanna
 \, Ohio\, 43230\, United States;X-APPLE-RADIUS=100;X-TITLE=Sunpoint Park:g
 eo:40.02961,-82.889562
END:VEVENT
BEGIN:VTIMEZONE
TZID:America/New_York
X-LIC-LOCATION:America/New_York
BEGIN:DAYLIGHT
DTSTART:20260308T030000
TZOFFSETFROM:-0500
TZOFFSETTO:-0400
TZNAME:EDT
END:DAYLIGHT
END:VTIMEZONE
END:VCALENDAR