BEGIN:VCALENDAR
VERSION:2.0
PRODID:-//wp-events-plugin.com//7.2.3.1//EN
TZID:America/New_York
X-WR-TIMEZONE:America/New_York
BEGIN:VEVENT
UID:178@cosiscifest.org
DTSTART;TZID=America/New_York:20260501T180000
DTEND;TZID=America/New_York:20260501T200000
DTSTAMP:20260324T210649Z
URL:https://cosiscifest.org/events/super-science-block-party/
SUMMARY:Super Science Block Party
DESCRIPTION:Join us for a science block party fun filled evening of researc
 h projects\, hands-on science activities\, robotics\, inflatables\, music 
 and food trucks from 6:00-8:00pm.
ATTACH;FMTTYPE=image/jpeg:https://cosiscifest.org/wp-content/uploads/2026/
 03/super-science-block-party-bexley_EDIT.jpg
CATEGORIES:Science Block Party
LOCATION:Capital University\, E Main St &amp\; College Ave\, Bexley\, Ohio\
 , 43209\, United States
GEO:39.957234;-82.939994
X-APPLE-STRUCTURED-LOCATION;VALUE=URI;X-ADDRESS=E Main St & College Ave\, B
 exley\, Ohio\, 43209\, United States;X-APPLE-RADIUS=100;X-TITLE=Capital Un
 iversity:geo:39.957234,-82.939994
END:VEVENT
BEGIN:VTIMEZONE
TZID:America/New_York
X-LIC-LOCATION:America/New_York
BEGIN:DAYLIGHT
DTSTART:20260308T030000
TZOFFSETFROM:-0500
TZOFFSETTO:-0400
TZNAME:EDT
END:DAYLIGHT
END:VTIMEZONE
END:VCALENDAR