BEGIN:VCALENDAR
VERSION:2.0
PRODID:-//wp-events-plugin.com//7.2.3.1//EN
TZID:America/New_York
X-WR-TIMEZONE:America/New_York
BEGIN:VEVENT
UID:203@cosiscifest.org
DTSTART;TZID=America/New_York:20260430T153000
DTEND;TZID=America/New_York:20260430T183000
DTSTAMP:20260401T170612Z
URL:https://cosiscifest.org/events/stem-on-the-track-the-westerville-bmx-e
 xperience/
SUMMARY:STEM on the Track: The Westerville BMX Experience
DESCRIPTION:Join Westerville BMX for a fun\, hands-on dive into the science
  of BMX racing.
ATTACH;FMTTYPE=image/jpeg:https://cosiscifest.org/wp-content/uploads/2026/
 03/STEM_on_track_EDIT.jpg
CATEGORIES:Outdoor Exploration
LOCATION:Westerville BMX Track\, 535 Park Meadow Rd\, Westerville\, OH 4308
 1\, Westerville\, Ohio\, 43081\, United States
GEO:40.113473;-82.937383
X-APPLE-STRUCTURED-LOCATION;VALUE=URI;X-ADDRESS=535 Park Meadow Rd\, Wester
 ville\, OH 43081\, Westerville\, Ohio\, 43081\, United States;X-APPLE-RADI
 US=100;X-TITLE=Westerville BMX Track:geo:40.113473,-82.937383
END:VEVENT
BEGIN:VTIMEZONE
TZID:America/New_York
X-LIC-LOCATION:America/New_York
BEGIN:DAYLIGHT
DTSTART:20260308T030000
TZOFFSETFROM:-0500
TZOFFSETTO:-0400
TZNAME:EDT
END:DAYLIGHT
END:VTIMEZONE
END:VCALENDAR