BEGIN:VCALENDAR
VERSION:2.0
PRODID:-//wp-events-plugin.com//7.2.3.1//EN
TZID:America/New_York
X-WR-TIMEZONE:America/New_York
BEGIN:VEVENT
UID:185@cosiscifest.org
DTSTART;TZID=America/New_York:20260501T180000
DTEND;TZID=America/New_York:20260501T200000
DTSTAMP:20260316T193432Z
URL:https://cosiscifest.org/events/steamfest/
SUMMARY:STEAMfest
DESCRIPTION:Explore science experiments and activity stations in the North 
 Gym\, create a science-themed craft\, enjoy an art activity led by the McC
 onnell Arts Center\, and dance at the glowing Black Light Party in the Sou
 th Gym.
ATTACH;FMTTYPE=image/jpeg:https://cosiscifest.org/wp-content/uploads/2026/
 03/STEAMfest_worthington_EDIT.jpg
CATEGORIES:Science Block Party
LOCATION:Worthington Community Center\, 345 E Wilson Bridge Rd\, Worthingto
 n\, Ohio\, 43085\, United States
GEO:40.106275;-83.005086
X-APPLE-STRUCTURED-LOCATION;VALUE=URI;X-ADDRESS=345 E Wilson Bridge Rd\, Wo
 rthington\, Ohio\, 43085\, United States;X-APPLE-RADIUS=100;X-TITLE=Worthi
 ngton Community Center:geo:40.106275,-83.005086
END:VEVENT
BEGIN:VTIMEZONE
TZID:America/New_York
X-LIC-LOCATION:America/New_York
BEGIN:DAYLIGHT
DTSTART:20260308T030000
TZOFFSETFROM:-0500
TZOFFSETTO:-0400
TZNAME:EDT
END:DAYLIGHT
END:VTIMEZONE
END:VCALENDAR