BEGIN:VCALENDAR
VERSION:2.0
PRODID:-//wp-events-plugin.com//7.2.3.1//EN
TZID:America/New_York
X-WR-TIMEZONE:America/New_York
BEGIN:VEVENT
UID:158@cosiscifest.org
DTSTART;TZID=America/New_York:20260501T153000
DTEND;TZID=America/New_York:20260501T173000
DTSTAMP:20260330T174349Z
URL:https://cosiscifest.org/events/steam-bash-2026/
SUMMARY:STEAM Bash
DESCRIPTION:UAPL is bringing back our STEAM Bash for its second year at our
  Tremont Road Branch - this time with even more to learn and explore! This
  event is focused on connecting school-aged (preschool and elementary) chi
 ldren with learning opportunities under the STEAM umbrella.
ATTACH;FMTTYPE=image/jpeg:https://cosiscifest.org/wp-content/uploads/2026/
 03/STEAM_bash_UAPL_EDIT.jpg
CATEGORIES:Science Block Party
LOCATION:Upper Arlington Public Library: Tremont Road Branch\, 2800 Tremont
  Rd\, Upper Arlington\, Ohio\, 43221\, United States
GEO:40.012676;-83.067447
X-APPLE-STRUCTURED-LOCATION;VALUE=URI;X-ADDRESS=2800 Tremont Rd\, Upper Arl
 ington\, Ohio\, 43221\, United States;X-APPLE-RADIUS=100;X-TITLE=Upper Arl
 ington Public Library: Tremont Road Branch:geo:40.012676,-83.067447
END:VEVENT
BEGIN:VTIMEZONE
TZID:America/New_York
X-LIC-LOCATION:America/New_York
BEGIN:DAYLIGHT
DTSTART:20260308T030000
TZOFFSETFROM:-0500
TZOFFSETTO:-0400
TZNAME:EDT
END:DAYLIGHT
END:VTIMEZONE
END:VCALENDAR