BEGIN:VCALENDAR
VERSION:2.0
PRODID:-//wp-events-plugin.com//7.2.3.1//EN
TZID:America/New_York
X-WR-TIMEZONE:America/New_York
BEGIN:VEVENT
UID:184@cosiscifest.org
DTSTART;TZID=America/New_York:20260501T180000
DTEND;TZID=America/New_York:20260501T200000
DTSTAMP:20260324T210554Z
URL:https://cosiscifest.org/events/stars-stripes-steam-is-a-high-energy-ha
 nds-on-science-festival-celebrating-america-250/
SUMMARY:Stars\, Stripes & STEAM is a high-energy\, hands-on science festiva
 l celebrating America 250!
DESCRIPTION:This dynamic STEAM event honors the scientists\, engineers\, in
 ventors\, and innovators who helped shape the nation\, from the spirit of 
 the American Revolution to the technologies defining our future.
ATTACH;FMTTYPE=image/jpeg:https://cosiscifest.org/wp-content/uploads/2026/
 03/stars-stripes-and-STEAM_EDIT.jpg
CATEGORIES:Science Block Party
LOCATION:Inspiration Station\, 1170 N Court Street\, Circleville\, Ohio\, 4
 3113\, United States
GEO:39.619196;-82.93856
X-APPLE-STRUCTURED-LOCATION;VALUE=URI;X-ADDRESS=1170 N Court Street\, Circl
 eville\, Ohio\, 43113\, United States;X-APPLE-RADIUS=100;X-TITLE=Inspirati
 on Station:geo:39.619196,-82.93856
END:VEVENT
BEGIN:VTIMEZONE
TZID:America/New_York
X-LIC-LOCATION:America/New_York
BEGIN:DAYLIGHT
DTSTART:20260308T030000
TZOFFSETFROM:-0500
TZOFFSETTO:-0400
TZNAME:EDT
END:DAYLIGHT
END:VTIMEZONE
END:VCALENDAR