BEGIN:VCALENDAR
VERSION:2.0
PRODID:-//wp-events-plugin.com//7.2.3.1//EN
TZID:America/New_York
X-WR-TIMEZONE:America/New_York
BEGIN:VEVENT
UID:211@cosiscifest.org
DTSTART;TZID=America/New_York:20260501T180000
DTEND;TZID=America/New_York:20260501T200000
DTSTAMP:20260403T202714Z
URL:https://cosiscifest.org/events/solstice-star-party-planetarium-shows-a
 t-ohio-state/
SUMMARY:Solstice Star Party & Planetarium Shows at Ohio State
DESCRIPTION:Join us for the Solstice Star Party – a hands-on astronomy ev
 ent for space enthusiasts!
ATTACH;FMTTYPE=image/jpeg:https://cosiscifest.org/wp-content/uploads/2024/
 03/CSF_generic_comm-event_image.jpg
CATEGORIES:Be a Scientist,Creative Sparks,Science Block Party
LOCATION:OSU - Physics Research Building\, 191 W Woodruff Ave\, Columbus\, 
 Ohio\, 43210\, United States
GEO:40.003279;-83.014296
X-APPLE-STRUCTURED-LOCATION;VALUE=URI;X-ADDRESS=191 W Woodruff Ave\, Columb
 us\, Ohio\, 43210\, United States;X-APPLE-RADIUS=100;X-TITLE=OSU - Physics
  Research Building:geo:40.003279,-83.014296
END:VEVENT
BEGIN:VTIMEZONE
TZID:America/New_York
X-LIC-LOCATION:America/New_York
BEGIN:DAYLIGHT
DTSTART:20260308T030000
TZOFFSETFROM:-0500
TZOFFSETTO:-0400
TZNAME:EDT
END:DAYLIGHT
END:VTIMEZONE
END:VCALENDAR