BEGIN:VCALENDAR
VERSION:2.0
PRODID:-//wp-events-plugin.com//7.2.3.1//EN
TZID:America/New_York
X-WR-TIMEZONE:America/New_York
BEGIN:VEVENT
UID:157@cosiscifest.org
DTSTART;TZID=America/New_York:20260430T180000
DTEND;TZID=America/New_York:20260430T193000
DTSTAMP:20260416T205659Z
URL:https://cosiscifest.org/events/scientists-with-disabilities-changing-t
 he-world/
SUMMARY:Scientists with Disabilities: Changing the World
DESCRIPTION:Registration for this event is full! \nCelebrate and learn abou
 t science and disability through interactive experiences designed to build
  understanding and curiosity. Try hands-on activities like navigating with
  blindfolds\, using noise-canceling headphones\, and exploring mobility fr
 om a wheelchair perspective.
ATTACH;FMTTYPE=image/jpeg:https://cosiscifest.org/wp-content/uploads/2024/
 03/CSF_generic_comm-event_image.jpg
CATEGORIES:Career Lab,Creative Sparks
LOCATION:Unlimited Possibilities For All Disabilities (UPFAD)\, 2300 S Hami
 lton Rd\, Columbus\, Ohio\, 43232\, United States
GEO:39.926509;-82.877242
X-APPLE-STRUCTURED-LOCATION;VALUE=URI;X-ADDRESS=2300 S Hamilton Rd\, Columb
 us\, Ohio\, 43232\, United States;X-APPLE-RADIUS=100;X-TITLE=Unlimited Pos
 sibilities For All Disabilities (UPFAD):geo:39.926509,-82.877242
END:VEVENT
BEGIN:VTIMEZONE
TZID:America/New_York
X-LIC-LOCATION:America/New_York
BEGIN:DAYLIGHT
DTSTART:20260308T030000
TZOFFSETFROM:-0500
TZOFFSETTO:-0400
TZNAME:EDT
END:DAYLIGHT
END:VTIMEZONE
END:VCALENDAR