BEGIN:VCALENDAR
VERSION:2.0
PRODID:-//wp-events-plugin.com//7.2.3.1//EN
TZID:America/New_York
X-WR-TIMEZONE:America/New_York
BEGIN:VEVENT
UID:103@cosiscifest.org
DTSTART;TZID=America/New_York;VALUE=DATE:20250430
DTEND;TZID=America/New_York;VALUE=DATE:20250503
DTSTAMP:20250422T181148Z
URL:https://cosiscifest.org/event-recurring/science-themed-karaoke-and-tri
 via/
SUMMARY:Science Themed Karaoke and Trivia
DESCRIPTION:As part of the COSI Science Festival\, play some trivia or sing
  a song at any Excesss show from April 26th - May 2nd and you could win FR
 EE tickets to the upcoming COSI exhibit\, Unofficial Galaxies!
ATTACH;FMTTYPE=image/jpeg:https://cosiscifest.org/wp-content/uploads/2024/
 03/CSF_generic_comm-event_image.jpg
CATEGORIES:Adult Science Series
END:VEVENT
BEGIN:VTIMEZONE
TZID:America/New_York
X-LIC-LOCATION:America/New_York
BEGIN:DAYLIGHT
DTSTART:20250309T030000
TZOFFSETFROM:-0500
TZOFFSETTO:-0400
TZNAME:EDT
END:DAYLIGHT
END:VTIMEZONE
END:VCALENDAR