BEGIN:VCALENDAR
VERSION:2.0
PRODID:-//wp-events-plugin.com//7.2.3.1//EN
TZID:America/New_York
X-WR-TIMEZONE:America/New_York
BEGIN:VEVENT
UID:172@cosiscifest.org
DTSTART;TZID=America/New_York:20260429T150000
DTEND;TZID=America/New_York:20260429T180000
DTSTAMP:20260316T120647Z
URL:https://cosiscifest.org/events/school-help-monarchs-milkweed-franklint
 on/
SUMMARY:School Help - Monarchs & Milkweed
DESCRIPTION:Celebrate America 250 and learn how caring for plants and wildl
 ife helps protect America’s natural resources. Activities include planti
 ng a milkweed seed to create real monarch habitat and making chromatograph
 y butterflies that blend science and art.
ATTACH;FMTTYPE=image/jpeg:https://cosiscifest.org/wp-content/uploads/2026/
 03/monarchs_milkweed_CML_EDIT.jpg
CATEGORIES:Creative Sparks
LOCATION:Columbus Metropolitan Library - Franklinton Branch\, 1061 W Town S
 treet\, Columbus\, Ohio\, 43222\, United States
GEO:39.955173;-83.027795
X-APPLE-STRUCTURED-LOCATION;VALUE=URI;X-ADDRESS=1061 W Town Street\, Columb
 us\, Ohio\, 43222\, United States;X-APPLE-RADIUS=100;X-TITLE=Columbus Metr
 opolitan Library - Franklinton Branch:geo:39.955173,-83.027795
END:VEVENT
BEGIN:VTIMEZONE
TZID:America/New_York
X-LIC-LOCATION:America/New_York
BEGIN:DAYLIGHT
DTSTART:20260308T030000
TZOFFSETFROM:-0500
TZOFFSETTO:-0400
TZNAME:EDT
END:DAYLIGHT
END:VTIMEZONE
END:VCALENDAR