BEGIN:VCALENDAR
VERSION:2.0
PRODID:-//wp-events-plugin.com//7.2.3.1//EN
TZID:America/New_York
X-WR-TIMEZONE:America/New_York
BEGIN:VEVENT
UID:210@cosiscifest.org
DTSTART;TZID=America/New_York:20260430T140000
DTEND;TZID=America/New_York:20260430T160000
DTSTAMP:20260407T220850Z
URL:https://cosiscifest.org/events/run-the-robot-a-hands-on-factory-experi
 ence-2/
SUMMARY:Run the Robot: A Hands-On Factory Experience
DESCRIPTION:Step into a real manufacturing environment and experience robot
 ics hands-on and in motion.
ATTACH;FMTTYPE=image/jpeg:https://cosiscifest.org/wp-content/uploads/2026/
 04/run-the-robot_EDIT.jpg
CATEGORIES:Adult Science Series,Be a Scientist,Creative Sparks
LOCATION:Yaskawa America\, Inc.\, Motoman Robotics Div.\, 100 Automation Wa
 y\, Miamisburg\, OH\, 45342\, United States
GEO:39.598769;-84.240318
X-APPLE-STRUCTURED-LOCATION;VALUE=URI;X-ADDRESS=100 Automation Way\, Miamis
 burg\, OH\, 45342\, United States;X-APPLE-RADIUS=100;X-TITLE=Yaskawa Ameri
 ca\, Inc.\, Motoman Robotics Div.:geo:39.598769,-84.240318
END:VEVENT
BEGIN:VTIMEZONE
TZID:America/New_York
X-LIC-LOCATION:America/New_York
BEGIN:DAYLIGHT
DTSTART:20260308T030000
TZOFFSETFROM:-0500
TZOFFSETTO:-0400
TZNAME:EDT
END:DAYLIGHT
END:VTIMEZONE
END:VCALENDAR