BEGIN:VCALENDAR
VERSION:2.0
PRODID:-//wp-events-plugin.com//7.2.3.1//EN
TZID:America/New_York
X-WR-TIMEZONE:America/New_York
BEGIN:VEVENT
UID:115@cosiscifest.org
DTSTART;TZID=America/New_York:20260501T183000
DTEND;TZID=America/New_York:20260501T203000
DTSTAMP:20260310T194655Z
URL:https://cosiscifest.org/events/reynoldsburg-science-blockparty/
SUMMARY:Reynoldsburg Science Block Party
DESCRIPTION:Bring the whole family out for a night of discovery with Reynol
 dsburg Parks and Recreation! Enjoy interactive STEAM stations\, connect wi
 th local businesses\, and see how science and creativity come together in 
 everyday life. Then grab a blanket and settle in for a Pixar movie in the 
 park and learn how movie magic is made!
ATTACH;FMTTYPE=image/jpeg:https://cosiscifest.org/wp-content/uploads/2024/
 03/CSF_generic_comm-event_image.jpg
CATEGORIES:Science Block Party
LOCATION:Reynoldsburg Community Center\, 1470 Davidson Dr\,\, Reynoldsburg\
 , Ohio\, 43068\, United States
GEO:39.953389;-82.804175
X-APPLE-STRUCTURED-LOCATION;VALUE=URI;X-ADDRESS=1470 Davidson Dr\,\, Reynol
 dsburg\, Ohio\, 43068\, United States;X-APPLE-RADIUS=100;X-TITLE=Reynoldsb
 urg Community Center:geo:39.953389,-82.804175
END:VEVENT
BEGIN:VTIMEZONE
TZID:America/New_York
X-LIC-LOCATION:America/New_York
BEGIN:DAYLIGHT
DTSTART:20260308T030000
TZOFFSETFROM:-0500
TZOFFSETTO:-0400
TZNAME:EDT
END:DAYLIGHT
END:VTIMEZONE
END:VCALENDAR