BEGIN:VCALENDAR
VERSION:2.0
PRODID:-//wp-events-plugin.com//7.2.3.1//EN
TZID:America/New_York
X-WR-TIMEZONE:America/New_York
BEGIN:VEVENT
UID:114@cosiscifest.org
DTSTART;TZID=America/New_York:20260501T150000
DTEND;TZID=America/New_York:20260501T160000
DTSTAMP:20260310T194620Z
URL:https://cosiscifest.org/events/pre-k-exploration-nature-print-lab-at-t
 he-pizzuti/
SUMMARY:Pre-K Exploration: Nature Print Lab at The Pizzuti
DESCRIPTION:Discover the world around you through the eyes of both scientis
 ts and artists! Like scientists\, artists are curious observers who examin
 e the world around them. Artists experiment with different materials to ma
 ke new and interesting things.
ATTACH;FMTTYPE=image/jpeg:https://cosiscifest.org/wp-content/uploads/2024/
 03/CSF_generic_comm-event_image.jpg
CATEGORIES:Creative Sparks
LOCATION:Columbus Museum of Art at The Pizzuti\, 632 Park St\, Columbus\, O
 hio\, 43215\, United States
GEO:39.975088;-83.004285
X-APPLE-STRUCTURED-LOCATION;VALUE=URI;X-ADDRESS=632 Park St\, Columbus\, Oh
 io\, 43215\, United States;X-APPLE-RADIUS=100;X-TITLE=Columbus Museum of A
 rt at The Pizzuti:geo:39.975088,-83.004285
END:VEVENT
BEGIN:VTIMEZONE
TZID:America/New_York
X-LIC-LOCATION:America/New_York
BEGIN:DAYLIGHT
DTSTART:20260308T030000
TZOFFSETFROM:-0500
TZOFFSETTO:-0400
TZNAME:EDT
END:DAYLIGHT
END:VTIMEZONE
END:VCALENDAR