BEGIN:VCALENDAR
VERSION:2.0
PRODID:-//wp-events-plugin.com//7.2.3.1//EN
TZID:America/New_York
X-WR-TIMEZONE:America/New_York
BEGIN:VEVENT
UID:156@cosiscifest.org
DTSTART;TZID=America/New_York:20260501T093000
DTEND;TZID=America/New_York:20260501T113000
DTSTAMP:20260316T120927Z
URL:https://cosiscifest.org/events/powell-touch-a-truck-2026/
SUMMARY:Powell Touch-A-Truck
DESCRIPTION:Designed for early childhood ages\, kids can explore 50+ vehicl
 es—including fire trucks\, police cruisers\, and construction equipment.
  Touch\, climb\, and meet the community helpers who operate them!
ATTACH;FMTTYPE=image/jpeg:https://cosiscifest.org/wp-content/uploads/2026/
 03/powell_touch_a_truck_EDIT.jpg
CATEGORIES:Science Block Party
LOCATION:Adventure Park\, 260 Village Park Dr\,\,  Powell\, Ohio\, 43065\, 
 United States
GEO:40.162931;-83.078448
X-APPLE-STRUCTURED-LOCATION;VALUE=URI;X-ADDRESS=260 Village Park Dr\,\,  Po
 well\, Ohio\, 43065\, United States;X-APPLE-RADIUS=100;X-TITLE=Adventure P
 ark:geo:40.162931,-83.078448
END:VEVENT
BEGIN:VTIMEZONE
TZID:America/New_York
X-LIC-LOCATION:America/New_York
BEGIN:DAYLIGHT
DTSTART:20260308T030000
TZOFFSETFROM:-0500
TZOFFSETTO:-0400
TZNAME:EDT
END:DAYLIGHT
END:VTIMEZONE
END:VCALENDAR