BEGIN:VCALENDAR
VERSION:2.0
PRODID:-//wp-events-plugin.com//7.2.3.1//EN
TZID:America/New_York
X-WR-TIMEZONE:America/New_York
BEGIN:VEVENT
UID:155@cosiscifest.org
DTSTART;TZID=America/New_York:20260501T180000
DTEND;TZID=America/New_York:20260501T193000
DTSTAMP:20260324T210513Z
URL:https://cosiscifest.org/events/pounded-plant-prints/
SUMMARY:Pounded Plant Prints
DESCRIPTION:Discover the creative power of plant pigment! Learn a simple me
 thod of transferring pigment from plants onto watercolor paper. Participan
 ts will create a unique piece of art by transferring the pigment from flow
 ers and leaves using a hammer.
ATTACH;FMTTYPE=image/jpeg:https://cosiscifest.org/wp-content/uploads/2026/
 03/pounded-plant-print_EDIT.jpg
CATEGORIES:Adult Science Series
LOCATION:Ohio Craft Museum\, 1665 W 5th Ave\, Columbus\, Ohio\, 43212\, Uni
 ted States
GEO:39.988867;-83.050863
X-APPLE-STRUCTURED-LOCATION;VALUE=URI;X-ADDRESS=1665 W 5th Ave\, Columbus\,
  Ohio\, 43212\, United States;X-APPLE-RADIUS=100;X-TITLE=Ohio Craft Museum
 :geo:39.988867,-83.050863
END:VEVENT
BEGIN:VTIMEZONE
TZID:America/New_York
X-LIC-LOCATION:America/New_York
BEGIN:DAYLIGHT
DTSTART:20260308T030000
TZOFFSETFROM:-0500
TZOFFSETTO:-0400
TZNAME:EDT
END:DAYLIGHT
END:VTIMEZONE
END:VCALENDAR