BEGIN:VCALENDAR
VERSION:2.0
PRODID:-//wp-events-plugin.com//7.2.3.1//EN
TZID:America/New_York
X-WR-TIMEZONE:America/New_York
BEGIN:VEVENT
UID:199@cosiscifest.org
DTSTART;TZID=America/New_York:20260430T183000
DTEND;TZID=America/New_York:20260430T203000
DTSTAMP:20260330T174317Z
URL:https://cosiscifest.org/events/plant-animal-exploration-at-slate-run-m
 etro-park/
SUMMARY:Plant & Animal Exploration at Slate Run Metro Park
DESCRIPTION:Become a scientist by helping us record species in the park! We
  will look high and low for plants and animals\, from treetops to under ro
 cks in the creek.
ATTACH;FMTTYPE=image/jpeg:https://cosiscifest.org/wp-content/uploads/2026/
 03/plant_and_animal_exploration_at_slate_run_EDIT1.jpg
CATEGORIES:BioBlitz,Outdoor Exploration
LOCATION:Shady Grove Picnic Area at Slate Run Metro Park\, 1375 St. Rte. 67
 4 North\, Canal Winchester\, Ohio\, 43110\, United States
GEO:39.759124;-82.827662
X-APPLE-STRUCTURED-LOCATION;VALUE=URI;X-ADDRESS=1375 St. Rte. 674 North\, C
 anal Winchester\, Ohio\, 43110\, United States;X-APPLE-RADIUS=100;X-TITLE=
 Shady Grove Picnic Area at Slate Run Metro Park:geo:39.759124,-82.827662
END:VEVENT
BEGIN:VTIMEZONE
TZID:America/New_York
X-LIC-LOCATION:America/New_York
BEGIN:DAYLIGHT
DTSTART:20260308T030000
TZOFFSETFROM:-0500
TZOFFSETTO:-0400
TZNAME:EDT
END:DAYLIGHT
END:VTIMEZONE
END:VCALENDAR