BEGIN:VCALENDAR
VERSION:2.0
PRODID:-//wp-events-plugin.com//7.2.3.1//EN
TZID:America/New_York
X-WR-TIMEZONE:America/New_York
BEGIN:VEVENT
UID:128@cosiscifest.org
DTSTART;TZID=America/New_York:20260501T170000
DTEND;TZID=America/New_York:20260501T200000
DTSTAMP:20260331T203926Z
URL:https://cosiscifest.org/events/plain-city-egg-drop-challenge-2026/
SUMMARY:Plain City Egg Drop Challenge!
DESCRIPTION:Design your best egg-protecting contraption and put it to the t
 est as we drop it from an AEP bucket truck. Will it land safely or go SPLA
 T?
ATTACH;FMTTYPE=image/jpeg:https://cosiscifest.org/wp-content/uploads/2026/
 03/plain_city_egg_drop_challenge_2_EDIT.jpg
CATEGORIES:Be a Scientist
LOCATION:Pastime Park\, 370 N Chillicothe St\, Plain City\, Ohio\, 43064\, 
 United States
GEO:40.113059;-83.272677
X-APPLE-STRUCTURED-LOCATION;VALUE=URI;X-ADDRESS=370 N Chillicothe St\, Plai
 n City\, Ohio\, 43064\, United States;X-APPLE-RADIUS=100;X-TITLE=Pastime P
 ark:geo:40.113059,-83.272677
END:VEVENT
BEGIN:VTIMEZONE
TZID:America/New_York
X-LIC-LOCATION:America/New_York
BEGIN:DAYLIGHT
DTSTART:20260308T030000
TZOFFSETFROM:-0500
TZOFFSETTO:-0400
TZNAME:EDT
END:DAYLIGHT
END:VTIMEZONE
END:VCALENDAR