BEGIN:VCALENDAR
VERSION:2.0
PRODID:-//wp-events-plugin.com//7.2.3.1//EN
TZID:America/New_York
X-WR-TIMEZONE:America/New_York
BEGIN:VEVENT
UID:208@cosiscifest.org
DTSTART;TZID=America/New_York:20260501T150000
DTEND;TZID=America/New_York:20260501T180000
DTSTAMP:20260402T210013Z
URL:https://cosiscifest.org/events/participate-in-research-at-the-osu-chil
 dren-and-parents-lab-3/
SUMMARY:Participate in Research at the OSU Children and Parents Lab
DESCRIPTION:Attention parents! Interested in participating in scientific st
 udies with your children? We want to hear from families like yours.
ATTACH;FMTTYPE=image/jpeg:https://cosiscifest.org/wp-content/uploads/2026/
 03/participate_in_research_at_OSU_children_and_parents_lab_EDIT.jpg
CATEGORIES:Science Block Party
LOCATION:Psychology Building\, 1835 Neil Ave\, Columbus\, OH\, 43210\, Unit
 ed States
GEO:39.998519;-83.01627
X-APPLE-STRUCTURED-LOCATION;VALUE=URI;X-ADDRESS=1835 Neil Ave\, Columbus\, 
 OH\, 43210\, United States;X-APPLE-RADIUS=100;X-TITLE=Psychology Building:
 geo:39.998519,-83.01627
END:VEVENT
BEGIN:VTIMEZONE
TZID:America/New_York
X-LIC-LOCATION:America/New_York
BEGIN:DAYLIGHT
DTSTART:20260308T030000
TZOFFSETFROM:-0500
TZOFFSETTO:-0400
TZNAME:EDT
END:DAYLIGHT
END:VTIMEZONE
END:VCALENDAR