BEGIN:VCALENDAR
VERSION:2.0
PRODID:-//wp-events-plugin.com//7.2.3.1//EN
TZID:America/New_York
X-WR-TIMEZONE:America/New_York
BEGIN:VEVENT
UID:141@cosiscifest.org
DTSTART;TZID=America/New_York:20260501T153000
DTEND;TZID=America/New_York:20260501T170000
DTSTAMP:20260310T194509Z
URL:https://cosiscifest.org/events/packard-piston-power/
SUMMARY:Packard Piston Power!
DESCRIPTION:This event will explore the basic concepts and design of the in
 ternal combustion engine\, as well as a brief history of its development. 
 We will also show the pros and cons of alternative fuels and propulsion\, 
 for autos\, trucks\, trains\, ships\, and even spacecraft!
ATTACH;FMTTYPE=image/jpeg:https://cosiscifest.org/wp-content/uploads/2024/
 03/CSF_generic_comm-event_image.jpg
CATEGORIES:Be a Scientist
LOCATION:America's Packard Museum\, 420 S Ludlow St\, Dayton\, Ohio\, 45402
 \, United States
GEO:39.753632;-84.191767
X-APPLE-STRUCTURED-LOCATION;VALUE=URI;X-ADDRESS=420 S Ludlow St\, Dayton\, 
 Ohio\, 45402\, United States;X-APPLE-RADIUS=100;X-TITLE=America's Packard 
 Museum:geo:39.753632,-84.191767
END:VEVENT
BEGIN:VTIMEZONE
TZID:America/New_York
X-LIC-LOCATION:America/New_York
BEGIN:DAYLIGHT
DTSTART:20260308T030000
TZOFFSETFROM:-0500
TZOFFSETTO:-0400
TZNAME:EDT
END:DAYLIGHT
END:VTIMEZONE
END:VCALENDAR