BEGIN:VCALENDAR
VERSION:2.0
PRODID:-//wp-events-plugin.com//7.2.3.1//EN
TZID:America/New_York
X-WR-TIMEZONE:America/New_York
BEGIN:VEVENT
UID:125@cosiscifest.org
DTSTART;TZID=America/New_York:20260429T180000
DTEND;TZID=America/New_York:20260429T190000
DTSTAMP:20260310T195053Z
URL:https://cosiscifest.org/events/nature-detectives/
SUMMARY:Nature Detectives
DESCRIPTION:Grab a magnifying glass and hiking shoes and get ready to inves
 tigate the woods with us! Get to know a little more about the wonderful ec
 osystems here in Ohio.
ATTACH;FMTTYPE=image/jpeg:https://cosiscifest.org/wp-content/uploads/2026/
 02/nature_detectives_glacier_ridge_EDIT.jpg
CATEGORIES:BioBlitz,Outdoor Exploration
LOCATION:Glacier Ridge Disc Golf Course\, 9801 Hyland-Croy Rd\, Plain City\
 , ohio\, 43064\, ohio\, United States
GEO:40.154826;-83.189942
X-APPLE-STRUCTURED-LOCATION;VALUE=URI;X-ADDRESS=9801 Hyland-Croy Rd\, Plain
  City\, ohio\, 43064\, ohio\, United States;X-APPLE-RADIUS=100;X-TITLE=Gla
 cier Ridge Disc Golf Course:geo:40.154826,-83.189942
END:VEVENT
BEGIN:VTIMEZONE
TZID:America/New_York
X-LIC-LOCATION:America/New_York
BEGIN:DAYLIGHT
DTSTART:20260308T030000
TZOFFSETFROM:-0500
TZOFFSETTO:-0400
TZNAME:EDT
END:DAYLIGHT
END:VTIMEZONE
END:VCALENDAR