BEGIN:VCALENDAR
VERSION:2.0
PRODID:-//wp-events-plugin.com//7.2.3.1//EN
TZID:America/New_York
X-WR-TIMEZONE:America/New_York
BEGIN:VEVENT
UID:154@cosiscifest.org
DTSTART;TZID=America/New_York:20260501T200000
DTEND;TZID=America/New_York:20260501T223000
DTSTAMP:20260316T120900Z
URL:https://cosiscifest.org/events/moongaze/
SUMMARY:Moongaze
DESCRIPTION:Come learn about the importance of protecting the natural night
  sky for life on Earth from representatives of Dark Sky Ohio. This will be
  followed by a short one mile nature hike at sunset led by a member of the
  State Park staff.
ATTACH;FMTTYPE=image/jpeg:https://cosiscifest.org/wp-content/uploads/2026/
 03/moongaze_EDIT.jpg
CATEGORIES:Outdoor Exploration
LOCATION:John Bryan State Park\, Q4QQ+66H\, Yellow Springs\, Ohio\, 45387\,
  United States
GEO:39.788063;-83.861891
X-APPLE-STRUCTURED-LOCATION;VALUE=URI;X-ADDRESS=Q4QQ+66H\, Yellow Springs\,
  Ohio\, 45387\, United States;X-APPLE-RADIUS=100;X-TITLE=John Bryan State 
 Park:geo:39.788063,-83.861891
END:VEVENT
BEGIN:VTIMEZONE
TZID:America/New_York
X-LIC-LOCATION:America/New_York
BEGIN:DAYLIGHT
DTSTART:20260308T030000
TZOFFSETFROM:-0500
TZOFFSETTO:-0400
TZNAME:EDT
END:DAYLIGHT
END:VTIMEZONE
END:VCALENDAR