BEGIN:VCALENDAR
VERSION:2.0
PRODID:-//wp-events-plugin.com//7.2.3.1//EN
TZID:America/New_York
X-WR-TIMEZONE:America/New_York
BEGIN:VEVENT
UID:153@cosiscifest.org
DTSTART;TZID=America/New_York:20260501T173000
DTEND;TZID=America/New_York:20260501T193000
DTSTAMP:20260316T120616Z
URL:https://cosiscifest.org/events/may-guided-hike-signs-of-spring/
SUMMARY:May Guided Hike: Signs of Spring
DESCRIPTION:Come along for an in-person adventure as we discover the bloomi
 ng wonders and fresh signs of spring on this guided hike led by a National
  Association for Interpretation Certified Interpretive Guide.
ATTACH;FMTTYPE=image/jpeg:https://cosiscifest.org/wp-content/uploads/2026/
 03/may_guided_hike_signs_of_spring_EDIT.jpg
CATEGORIES:Outdoor Exploration
LOCATION:Chauncey-Dover Trailhead Park\, 8433 W Bailey Rd\, Millfield\, Ohi
 o\, 45761\, United States
GEO:39.403724;-82.130051
X-APPLE-STRUCTURED-LOCATION;VALUE=URI;X-ADDRESS=8433 W Bailey Rd\, Millfiel
 d\, Ohio\, 45761\, United States;X-APPLE-RADIUS=100;X-TITLE=Chauncey-Dover
  Trailhead Park:geo:39.403724,-82.130051
END:VEVENT
BEGIN:VTIMEZONE
TZID:America/New_York
X-LIC-LOCATION:America/New_York
BEGIN:DAYLIGHT
DTSTART:20260308T030000
TZOFFSETFROM:-0500
TZOFFSETTO:-0400
TZNAME:EDT
END:DAYLIGHT
END:VTIMEZONE
END:VCALENDAR