BEGIN:VCALENDAR
VERSION:2.0
PRODID:-//wp-events-plugin.com//7.2.3.1//EN
TZID:America/New_York
X-WR-TIMEZONE:America/New_York
BEGIN:VEVENT
UID:152@cosiscifest.org
DTSTART;TZID=America/New_York:20260501T170000
DTEND;TZID=America/New_York:20260501T190000
DTSTAMP:20260310T194323Z
URL:https://cosiscifest.org/events/math-adventurer-discovering-math-everyw
 here/
SUMMARY:Math Adventurer: Discovering Math Everywhere
DESCRIPTION:Ready to see math in a whole new way? Dive into fun activities 
 that show how math pops up in everyday life! This in-person event is perfe
 ct for curious minds of all ages.
ATTACH;FMTTYPE=image/jpeg:https://cosiscifest.org/wp-content/uploads/2024/
 03/CSF_generic_comm-event_image.jpg
CATEGORIES:Be a Scientist,Creative Sparks
LOCATION:Math Plus Academy of Powell\, 9681 Sawmill Rd\, Powell\, Ohio\, 43
 065\, United States
GEO:40.157626;-83.087953
X-APPLE-STRUCTURED-LOCATION;VALUE=URI;X-ADDRESS=9681 Sawmill Rd\, Powell\, 
 Ohio\, 43065\, United States;X-APPLE-RADIUS=100;X-TITLE=Math Plus Academy 
 of Powell:geo:40.157626,-83.087953
END:VEVENT
BEGIN:VTIMEZONE
TZID:America/New_York
X-LIC-LOCATION:America/New_York
BEGIN:DAYLIGHT
DTSTART:20260308T030000
TZOFFSETFROM:-0500
TZOFFSETTO:-0400
TZNAME:EDT
END:DAYLIGHT
END:VTIMEZONE
END:VCALENDAR