BEGIN:VCALENDAR
VERSION:2.0
PRODID:-//wp-events-plugin.com//7.2.3.1//EN
TZID:America/New_York
X-WR-TIMEZONE:America/New_York
BEGIN:VEVENT
UID:113@cosiscifest.org
DTSTART;TZID=America/New_York:20260430T180000
DTEND;TZID=America/New_York:20260430T190000
DTSTAMP:20260324T181115Z
URL:https://cosiscifest.org/events/making-casein-plastic/
SUMMARY:Making Casein Plastic
DESCRIPTION:Transform your kitchen into a science lab! By turning milk into
  plastic\, you can create your own sustainable\, biodegradable casein plas
 tic! This exciting chemistry project involves using the protein in milk to
  craft unique jewelry\, buttons\, or other decorative items.
ATTACH;FMTTYPE=image/jpeg:https://cosiscifest.org/wp-content/uploads/2023/
 03/CSF_generic_comm-event_image-scaled.jpg
CATEGORIES:Creative Sparks
LOCATION:Pickaway County Library\, 1160 N Court Street\, Circleville\, Ohio
 \, 43113\, United States
GEO:39.619158;-82.939141
X-APPLE-STRUCTURED-LOCATION;VALUE=URI;X-ADDRESS=1160 N Court Street\, Circl
 eville\, Ohio\, 43113\, United States;X-APPLE-RADIUS=100;X-TITLE=Pickaway 
 County Library:geo:39.619158,-82.939141
END:VEVENT
BEGIN:VTIMEZONE
TZID:America/New_York
X-LIC-LOCATION:America/New_York
BEGIN:DAYLIGHT
DTSTART:20260308T030000
TZOFFSETFROM:-0500
TZOFFSETTO:-0400
TZNAME:EDT
END:DAYLIGHT
END:VTIMEZONE
END:VCALENDAR