BEGIN:VCALENDAR
VERSION:2.0
PRODID:-//wp-events-plugin.com//7.2.3.1//EN
TZID:America/New_York
X-WR-TIMEZONE:America/New_York
BEGIN:VEVENT
UID:198@cosiscifest.org
DTSTART;TZID=America/New_York:20260501T163000
DTEND;TZID=America/New_York:20260501T183000
DTSTAMP:20260324T211501Z
URL:https://cosiscifest.org/events/make-your-own-ice-cream-may-1/
SUMMARY:Make Your Own Ice Cream
DESCRIPTION:Participants will dive into the science behind freezing\, mixin
 g\, and chemical reactions\, discovering how simple ingredients transform 
 into a delicious treat.
ATTACH;FMTTYPE=image/jpeg:https://cosiscifest.org/wp-content/uploads/2023/
 03/CSF_generic_comm-event_image-scaled.jpg
CATEGORIES:Be a Scientist,Creative Sparks,Science Block Party
LOCATION:South Side Family Farms\, 1269 Wilson Ave\, Columbus\, Ohio\, 4320
 6\, United States
GEO:39.939338;-82.968439
X-APPLE-STRUCTURED-LOCATION;VALUE=URI;X-ADDRESS=1269 Wilson Ave\, Columbus\
 , Ohio\, 43206\, United States;X-APPLE-RADIUS=100;X-TITLE=South Side Famil
 y Farms:geo:39.939338,-82.968439
END:VEVENT
BEGIN:VTIMEZONE
TZID:America/New_York
X-LIC-LOCATION:America/New_York
BEGIN:DAYLIGHT
DTSTART:20260308T030000
TZOFFSETFROM:-0500
TZOFFSETTO:-0400
TZNAME:EDT
END:DAYLIGHT
END:VTIMEZONE
END:VCALENDAR