BEGIN:VCALENDAR
VERSION:2.0
PRODID:-//wp-events-plugin.com//7.2.3.1//EN
TZID:America/New_York
X-WR-TIMEZONE:America/New_York
BEGIN:VEVENT
UID:112@cosiscifest.org
DTSTART;TZID=America/New_York:20260429T113000
DTEND;TZID=America/New_York:20260429T130000
DTSTAMP:20260331T150809Z
URL:https://cosiscifest.org/events/life-after-cars-reimagining-cities-for-
 people/
SUMMARY:Life After Cars: Reimagining Cities for People
DESCRIPTION:Join the authors of the new bestselling book "Life After Cars" 
 and "War on Cars" podcast co-hosts Sarah Goodyear and Doug Gordon for a pr
 ovocative conversation on how car culture has reshaped our cities\, commun
 ities\, and climate — and what it might take to build a future centered 
 on people\, not vehicles.
ATTACH;FMTTYPE=image/jpeg:https://cosiscifest.org/wp-content/uploads/2026/
 02/life_after_cars_EDIT.jpg
CATEGORIES:Adult Science Series
LOCATION:National Veterans Memorial and Museum\, 300 W Broad St\, Columbus\
 , Ohio\, 43215\, United States
GEO:39.961834;-83.008319
X-APPLE-STRUCTURED-LOCATION;VALUE=URI;X-ADDRESS=300 W Broad St\, Columbus\,
  Ohio\, 43215\, United States;X-APPLE-RADIUS=100;X-TITLE=National Veterans
  Memorial and Museum:geo:39.961834,-83.008319
END:VEVENT
BEGIN:VTIMEZONE
TZID:America/New_York
X-LIC-LOCATION:America/New_York
BEGIN:DAYLIGHT
DTSTART:20260308T030000
TZOFFSETFROM:-0500
TZOFFSETTO:-0400
TZNAME:EDT
END:DAYLIGHT
END:VTIMEZONE
END:VCALENDAR