BEGIN:VCALENDAR
VERSION:2.0
PRODID:-//wp-events-plugin.com//7.2.3.1//EN
TZID:America/New_York
X-WR-TIMEZONE:America/New_York
BEGIN:VEVENT
UID:132@cosiscifest.org
DTSTART;TZID=America/New_York:20260429T170000
DTEND;TZID=America/New_York:20260429T200000
DTSTAMP:20260331T203901Z
URL:https://cosiscifest.org/events/learn-how-cars-are-made/
SUMMARY:Learn How Cars are Made at the Honda Heritage Center
DESCRIPTION:Honda has been manufacturing vehicles in Central Ohio for over 
 40 years and selling products in the U.S. for over 60. This history is rep
 resented in the Honda Heritage Center museum with displays as diverse as t
 he first car and bike models built in Ohio\, a HondaJet airplane fuselage 
 and a manufacturing robot you can control.
ATTACH;FMTTYPE=image/jpeg:https://cosiscifest.org/wp-content/uploads/2026/
 03/learn_how_cars_are_made_honda_heritage_center_EDIT.jpg
CATEGORIES:Career Lab
LOCATION:Honda Heritage Center\, 24025 Honda Pkwy\, Marysville\, Ohio\, 430
 40\, United States
GEO:40.271772;-83.504154
X-APPLE-STRUCTURED-LOCATION;VALUE=URI;X-ADDRESS=24025 Honda Pkwy\, Marysvil
 le\, Ohio\, 43040\, United States;X-APPLE-RADIUS=100;X-TITLE=Honda Heritag
 e Center:geo:40.271772,-83.504154
END:VEVENT
BEGIN:VTIMEZONE
TZID:America/New_York
X-LIC-LOCATION:America/New_York
BEGIN:DAYLIGHT
DTSTART:20260308T030000
TZOFFSETFROM:-0500
TZOFFSETTO:-0400
TZNAME:EDT
END:DAYLIGHT
END:VTIMEZONE
END:VCALENDAR