BEGIN:VCALENDAR
VERSION:2.0
PRODID:-//wp-events-plugin.com//7.2.3.1//EN
TZID:America/New_York
X-WR-TIMEZONE:America/New_York
BEGIN:VEVENT
UID:151@cosiscifest.org
DTSTART;TZID=America/New_York:20260429T183000
DTEND;TZID=America/New_York:20260429T193000
DTSTAMP:20260316T120543Z
URL:https://cosiscifest.org/events/learn-about-the-moon-landing-from-whiz-
 bang-science/
SUMMARY:Learn About the Moon Landing from Whiz Bang Science
DESCRIPTION:Kids and families are invited to join us at the Delaware County
  District Library: Liberty Branch as Dr. Dave of Whiz Bang Science present
 s the science and history of the Moon Landing! Celebrate the 250th birthda
 y of the USA by reliving the 1969 Moon Landing and learn some fun scientif
 ic concepts\, as well.
ATTACH;FMTTYPE=image/jpeg:https://cosiscifest.org/wp-content/uploads/2026/
 03/learn_about_the_moon_landing_whiz_bang_science_EDIT.jpg
CATEGORIES:Creative Sparks
LOCATION:Delaware County District Library: Liberty Branch\, 7468 Steitz Rd\
 , Powell\, Ohio\, 43065\, United States
GEO:40.197568;-83.111189
X-APPLE-STRUCTURED-LOCATION;VALUE=URI;X-ADDRESS=7468 Steitz Rd\, Powell\, O
 hio\, 43065\, United States;X-APPLE-RADIUS=100;X-TITLE=Delaware County Dis
 trict Library: Liberty Branch:geo:40.197568,-83.111189
END:VEVENT
BEGIN:VTIMEZONE
TZID:America/New_York
X-LIC-LOCATION:America/New_York
BEGIN:DAYLIGHT
DTSTART:20260308T030000
TZOFFSETFROM:-0500
TZOFFSETTO:-0400
TZNAME:EDT
END:DAYLIGHT
END:VTIMEZONE
END:VCALENDAR