BEGIN:VCALENDAR
VERSION:2.0
PRODID:-//wp-events-plugin.com//7.2.3.1//EN
TZID:America/New_York
X-WR-TIMEZONE:America/New_York
BEGIN:VEVENT
UID:108@cosiscifest.org
DTSTART;TZID=America/New_York:20260430T170000
DTEND;TZID=America/New_York:20260430T180000
DTSTAMP:20260225T175655Z
URL:https://cosiscifest.org/events/lava-lamp-in-a-bottle/
SUMMARY:Lava Lamp in a Bottle
DESCRIPTION:Want to make a colorful lava lamp? Come experience simple chemi
 stry and creativity as you build your own bubbly lava lamp using everyday 
 materials! Grandview Heights Parks and Recreation will have everything you
  need to create your lava lamp\, and kids will also get to participate in 
 other fun\, hands-on STEM activities.
ATTACH;FMTTYPE=image/jpeg:https://cosiscifest.org/wp-content/uploads/2026/
 02/lava_lamp_in_bottle_EDIT.jpg
CATEGORIES:Be a Scientist,Creative Sparks
LOCATION:McKinley Field Park\, 1661 Goodale Blvd\, Grandview Heights\, Ohio
 \, 43212\, United States
GEO:39.976175;-83.049061
X-APPLE-STRUCTURED-LOCATION;VALUE=URI;X-ADDRESS=1661 Goodale Blvd\, Grandvi
 ew Heights\, Ohio\, 43212\, United States;X-APPLE-RADIUS=100;X-TITLE=McKin
 ley Field Park:geo:39.976175,-83.049061
END:VEVENT
BEGIN:VTIMEZONE
TZID:America/New_York
X-LIC-LOCATION:America/New_York
BEGIN:DAYLIGHT
DTSTART:20260308T030000
TZOFFSETFROM:-0500
TZOFFSETTO:-0400
TZNAME:EDT
END:DAYLIGHT
END:VTIMEZONE
END:VCALENDAR