BEGIN:VCALENDAR
VERSION:2.0
PRODID:-//wp-events-plugin.com//7.2.3.1//EN
TZID:America/New_York
X-WR-TIMEZONE:America/New_York
BEGIN:VEVENT
UID:213@cosiscifest.org
DTSTART;TZID=America/New_York:20260430T203000
DTEND;TZID=America/New_York:20260430T220000
DTSTAMP:20260422T214252Z
URL:https://cosiscifest.org/events/lake-hope-state-park-dark-sky-series-fu
 ll-moon-walk/
SUMMARY:Lake Hope State Park Dark Sky Series: Full Moon Walk
DESCRIPTION:Explore the park after dark and enjoy the splendor of the Flowe
 r Moon during this brisk\, moderate 2-mile hike!
ATTACH;FMTTYPE=image/jpeg:https://cosiscifest.org/wp-content/uploads/2026/
 04/lake-hope-state-park_dark-sky_full-moon-walk_EDIT.jpg
CATEGORIES:Outdoor Exploration
LOCATION:Lake Hope State Park Nature Center\, Furnace Ridge Rd\, New Plymou
 th\, Ohio\, 45654\, United States
GEO:39.34557;-82.344001
X-APPLE-STRUCTURED-LOCATION;VALUE=URI;X-ADDRESS=Furnace Ridge Rd\, New Plym
 outh\, Ohio\, 45654\, United States;X-APPLE-RADIUS=100;X-TITLE=Lake Hope S
 tate Park Nature Center:geo:39.34557,-82.344001
END:VEVENT
BEGIN:VTIMEZONE
TZID:America/New_York
X-LIC-LOCATION:America/New_York
BEGIN:DAYLIGHT
DTSTART:20260308T030000
TZOFFSETFROM:-0500
TZOFFSETTO:-0400
TZNAME:EDT
END:DAYLIGHT
END:VTIMEZONE
END:VCALENDAR