BEGIN:VCALENDAR
VERSION:2.0
PRODID:-//wp-events-plugin.com//7.2.3.1//EN
TZID:America/New_York
X-WR-TIMEZONE:America/New_York
BEGIN:VEVENT
UID:171@cosiscifest.org
DTSTART;TZID=America/New_York:20260429T163000
DTEND;TZID=America/New_York:20260429T173000
DTSTAMP:20260316T121029Z
URL:https://cosiscifest.org/events/kids-create-monarchs-milkweed-canal/
SUMMARY:Kids Create - Monarchs & Milkweed
DESCRIPTION:Celebrate America 250 and learn how caring for plants and wildl
 ife helps protect America’s natural resources. Activities include planti
 ng a milkweed seed to create real monarch habitat and making chromatograph
 y butterflies that blend science and art.
ATTACH;FMTTYPE=image/jpeg:https://cosiscifest.org/wp-content/uploads/2026/
 03/monarchs_milkweed_CML_EDIT.jpg
CATEGORIES:Creative Sparks
LOCATION:Columbus Metropolitan Library - Canal Winchester Branch\, 123 Grov
 eport Rd\, Canal Winchester\, Ohio\, 43110\, United States
GEO:39.84427;-82.812722
X-APPLE-STRUCTURED-LOCATION;VALUE=URI;X-ADDRESS=123 Groveport Rd\, Canal Wi
 nchester\, Ohio\, 43110\, United States;X-APPLE-RADIUS=100;X-TITLE=Columbu
 s Metropolitan Library - Canal Winchester Branch:geo:39.84427,-82.812722
END:VEVENT
BEGIN:VTIMEZONE
TZID:America/New_York
X-LIC-LOCATION:America/New_York
BEGIN:DAYLIGHT
DTSTART:20260308T030000
TZOFFSETFROM:-0500
TZOFFSETTO:-0400
TZNAME:EDT
END:DAYLIGHT
END:VTIMEZONE
END:VCALENDAR