BEGIN:VCALENDAR
VERSION:2.0
PRODID:-//wp-events-plugin.com//7.2.3.1//EN
TZID:America/New_York
X-WR-TIMEZONE:America/New_York
BEGIN:VEVENT
UID:150@cosiscifest.org
DTSTART;TZID=America/New_York:20260501T180000
DTEND;TZID=America/New_York:20260501T210000
DTSTAMP:20260316T120518Z
URL:https://cosiscifest.org/events/inventing-america-250-years-of-steam-wi
 th-main-street-delaware/
SUMMARY:Inventing America: 250 Years of STEAM with Main Street Delaware
DESCRIPTION:Celebrate America 250 during First Friday in downtown Delaware 
 by exploring interactive\, hands-on STEAM experiments and creative activit
 ies inspired by the discoveries and innovations of American inventors.
ATTACH;FMTTYPE=image/jpeg:https://cosiscifest.org/wp-content/uploads/2026/
 03/inventing_america_250_years_of_STEAM_delaware_EDIT.jpg
CATEGORIES:Science Block Party
LOCATION:Downtown Delaware\, Ohio\, W William St &amp\; N Sandusky St\, Del
 aware\, Ohio\, 43015\, United States
GEO:40.298805;-83.067778
X-APPLE-STRUCTURED-LOCATION;VALUE=URI;X-ADDRESS=W William St & N Sandusky S
 t\, Delaware\, Ohio\, 43015\, United States;X-APPLE-RADIUS=100;X-TITLE=Dow
 ntown Delaware\, Ohio:geo:40.298805,-83.067778
END:VEVENT
BEGIN:VTIMEZONE
TZID:America/New_York
X-LIC-LOCATION:America/New_York
BEGIN:DAYLIGHT
DTSTART:20260308T030000
TZOFFSETFROM:-0500
TZOFFSETTO:-0400
TZNAME:EDT
END:DAYLIGHT
END:VTIMEZONE
END:VCALENDAR