BEGIN:VCALENDAR
VERSION:2.0
PRODID:-//wp-events-plugin.com//7.2.3.1//EN
TZID:America/New_York
X-WR-TIMEZONE:America/New_York
BEGIN:VEVENT
UID:149@cosiscifest.org
DTSTART;TZID=America/New_York:20260430T170000
DTEND;TZID=America/New_York:20260430T190000
DTSTAMP:20260310T194056Z
URL:https://cosiscifest.org/events/intro-to-lego-robotics-where-bricks-mee
 t-coding/
SUMMARY:Intro to LEGO Robotics: Where Bricks meet Coding
DESCRIPTION:Explore the powerful connection between hardware and software t
 hrough LEGO® Robotics! In this hands-on experience\, you’ll discover ho
 w the physical world (motors\, sensors\, and bricks you can touch) works t
 ogether with code and logic inside the computer—just like in self-drivin
 g cars\, smart homes\, touch screens\, and traffic lights.
ATTACH;FMTTYPE=image/jpeg:https://cosiscifest.org/wp-content/uploads/2024/
 03/CSF_generic_comm-event_image.jpg
CATEGORIES:Be a Scientist,Creative Sparks
LOCATION:Math Plus Academy of Powell\, 9681 Sawmill Rd\, Powell\, Ohio\, 43
 065\, United States
GEO:40.157626;-83.087953
X-APPLE-STRUCTURED-LOCATION;VALUE=URI;X-ADDRESS=9681 Sawmill Rd\, Powell\, 
 Ohio\, 43065\, United States;X-APPLE-RADIUS=100;X-TITLE=Math Plus Academy 
 of Powell:geo:40.157626,-83.087953
END:VEVENT
BEGIN:VTIMEZONE
TZID:America/New_York
X-LIC-LOCATION:America/New_York
BEGIN:DAYLIGHT
DTSTART:20260308T030000
TZOFFSETFROM:-0500
TZOFFSETTO:-0400
TZNAME:EDT
END:DAYLIGHT
END:VTIMEZONE
END:VCALENDAR