BEGIN:VCALENDAR
VERSION:2.0
PRODID:-//wp-events-plugin.com//7.2.3.1//EN
TZID:America/New_York
X-WR-TIMEZONE:America/New_York
BEGIN:VEVENT
UID:148@cosiscifest.org
DTSTART;TZID=America/New_York:20260429T170000
DTEND;TZID=America/New_York:20260429T190000
DTSTAMP:20260310T194037Z
URL:https://cosiscifest.org/events/intro-to-3d-printing-for-fun-and-functi
 on/
SUMMARY:Intro to 3D Printing: For Fun and Function
DESCRIPTION:Step into the world of 3D printing and bring your ideas to life
 ! You’ll learn how 3D printing works—from simple design software to th
 e printer itself—while exploring both creative and practical uses.
ATTACH;FMTTYPE=image/jpeg:https://cosiscifest.org/wp-content/uploads/2024/
 03/CSF_generic_comm-event_image.jpg
CATEGORIES:Be a Scientist,Creative Sparks
LOCATION:Math Plus Academy of Powell\, 9681 Sawmill Rd\, Powell\, Ohio\, 43
 065\, United States
GEO:40.157626;-83.087953
X-APPLE-STRUCTURED-LOCATION;VALUE=URI;X-ADDRESS=9681 Sawmill Rd\, Powell\, 
 Ohio\, 43065\, United States;X-APPLE-RADIUS=100;X-TITLE=Math Plus Academy 
 of Powell:geo:40.157626,-83.087953
END:VEVENT
BEGIN:VTIMEZONE
TZID:America/New_York
X-LIC-LOCATION:America/New_York
BEGIN:DAYLIGHT
DTSTART:20260308T030000
TZOFFSETFROM:-0500
TZOFFSETTO:-0400
TZNAME:EDT
END:DAYLIGHT
END:VTIMEZONE
END:VCALENDAR