BEGIN:VCALENDAR
VERSION:2.0
PRODID:-//wp-events-plugin.com//7.2.3.1//EN
TZID:America/New_York
X-WR-TIMEZONE:America/New_York
BEGIN:VEVENT
UID:135@cosiscifest.org
DTSTART;TZID=America/New_York:20260430T180000
DTEND;TZID=America/New_York:20260430T184500
DTSTAMP:20260316T120954Z
URL:https://cosiscifest.org/events/integrative-play-and-mindfulness-for-ch
 ildren-2026/
SUMMARY:STEAM Connection: Integrative Play and Mindfulness for Children
DESCRIPTION:This interactive program promotes purposeful play while support
 ing speech\, sensory and motor skill development. Participants rotate thro
 ugh obstacle courses\, sensory bins\, crafts and story time\, all enhanced
  with calming yoga techniques that encourage mindfulness\, body awareness 
 and self-regulation.
ATTACH;FMTTYPE=image/jpeg:https://cosiscifest.org/wp-content/uploads/2026/
 02/STEAM_connection_integrative_play_EDIT.jpg
CATEGORIES:Outdoor Exploration
LOCATION:Coffman Park Pavilion\, 5200 Emerald Pkwy\, Dublin\, Ohio\, 43017\
 , United States
GEO:40.1046;-83.139436
X-APPLE-STRUCTURED-LOCATION;VALUE=URI;X-ADDRESS=5200 Emerald Pkwy\, Dublin\
 , Ohio\, 43017\, United States;X-APPLE-RADIUS=100;X-TITLE=Coffman Park Pav
 ilion:geo:40.1046,-83.139436
END:VEVENT
BEGIN:VTIMEZONE
TZID:America/New_York
X-LIC-LOCATION:America/New_York
BEGIN:DAYLIGHT
DTSTART:20260308T030000
TZOFFSETFROM:-0500
TZOFFSETTO:-0400
TZNAME:EDT
END:DAYLIGHT
END:VTIMEZONE
END:VCALENDAR