BEGIN:VCALENDAR
VERSION:2.0
PRODID:-//wp-events-plugin.com//7.2.3.1//EN
TZID:America/New_York
X-WR-TIMEZONE:America/New_York
BEGIN:VEVENT
UID:205@cosiscifest.org
DTSTART;TZID=America/New_York:20260501T100000
DTEND;TZID=America/New_York:20260501T120000
DTSTAMP:20260408T202509Z
URL:https://cosiscifest.org/events/improving-our-food-systems-through-stea
 m-a-deep-dive-into-next-gen-growing-methods/
SUMMARY:Improving our Food Systems Through STEAM:  A Deep Dive into Next G
 en Growing Methods
DESCRIPTION:Join some of the most innovative\, industry-leading minds for a
  walking tour of the Mid- Ohio Farm on the Hilltop and discussion of how S
 TEAM is changing the way we see and produce food.
ATTACH;FMTTYPE=image/jpeg:https://cosiscifest.org/wp-content/uploads/2026/
 04/improving_our_food_systems_through_STEAM_EDIT.jpg
CATEGORIES:Adult Science Series
LOCATION:Mid-Ohio Farm on the Hilltop\, 140 N Wheatland Ave\, Columbus\, Oh
 io\, 43223\, United States
GEO:39.957728;-83.060998
X-APPLE-STRUCTURED-LOCATION;VALUE=URI;X-ADDRESS=140 N Wheatland Ave\, Colum
 bus\, Ohio\, 43223\, United States;X-APPLE-RADIUS=100;X-TITLE=Mid-Ohio Far
 m on the Hilltop:geo:39.957728,-83.060998
END:VEVENT
BEGIN:VTIMEZONE
TZID:America/New_York
X-LIC-LOCATION:America/New_York
BEGIN:DAYLIGHT
DTSTART:20260308T030000
TZOFFSETFROM:-0500
TZOFFSETTO:-0400
TZNAME:EDT
END:DAYLIGHT
END:VTIMEZONE
END:VCALENDAR